BEGIN:VCALENDAR
VERSION:2.0
PRODID:-//KunstHofKöpenick - ECPv6.5.1.5//NONSGML v1.0//EN
CALSCALE:GREGORIAN
METHOD:PUBLISH
X-ORIGINAL-URL:https://kunsthofkoepenick.eu
X-WR-CALDESC:Veranstaltungen für KunstHofKöpenick
REFRESH-INTERVAL;VALUE=DURATION:PT1H
X-Robots-Tag:noindex
X-PUBLISHED-TTL:PT1H
BEGIN:VTIMEZONE
TZID:Europe/Berlin
BEGIN:DAYLIGHT
TZOFFSETFROM:+0100
TZOFFSETTO:+0200
TZNAME:CEST
DTSTART:20220327T010000
END:DAYLIGHT
BEGIN:STANDARD
TZOFFSETFROM:+0200
TZOFFSETTO:+0100
TZNAME:CET
DTSTART:20221030T010000
END:STANDARD
END:VTIMEZONE
BEGIN:VEVENT
DTSTART;TZID=Europe/Berlin:20220717T113000
DTEND;TZID=Europe/Berlin:20220717T130000
DTSTAMP:20260425T223723
CREATED:20220403T174237Z
LAST-MODIFIED:20230108T153755Z
UID:10000243-1658057400-1658062800@kunsthofkoepenick.eu
SUMMARY:APRÈS CHURCH auf dem KunstHofKöpenick: Teresa Bergman
DESCRIPTION:2022 haben wir insgesamt 15 Premieren und hier kommt schon wieder eine Künstlerin zum ersten Mal zu uns.   \nVorhang auf und Bühne frei für TERESA BERGMAN  \nTeresa Bergman\, Sängerin aus Neuseeland und Wahlberlinerin\, schlägt musikalische Brücken zwischen Folk\, Funk und Jazz. Ihr typischer Bergman-Groove\, ihr Mut zu stilistischen Kontrasten sowie ihr Bühnen-Mix aus Spaß und Intimität machen Teresas Konzerte zu magischen wie mitreißenden Erlebnissen. Im Mittelpunkt steht Teresas wichtigstes Instrument: Ihre grandiose\, unglaublich wandlungsfähige Stimme. Ihre Auftritte sind stets energiegeladene Ereignisse\, die die Vorschusslorbeeren der Presse mehr als rechtfertigen.   \n„Phantastische Stimme\, phantastische Songs. Einfach so bläst sie einen um.“ (FAZ)   \nManchmal gibt es Pressetexte\, denen nichts hinzuzufügen ist\,  \naußer vielleicht:   \nHerzlich Willkommen\, wir freuen uns auf TERESA BERGMAN!  \n  \nhttp://www.teresabergman.com  \nhttps://www.facebook.com/teresabergman.music  \nDie Veranstaltung wird unterstützt durch das Bezirksamt Treptow-Köpenick / Fachbereich Kultur und Museum. \nAPRÈS CHURCH auf dem KunstHofKöpenick am 17.07.2022: Teresa Bergman
URL:https://kunsthofkoepenick.eu/veranstaltungen/apres-church-auf-dem-kunsthofkoepenick-teresa-bergman/
LOCATION:KunstHofKöpenick\, Alt-Köpenick 12\, Berlin\, Berlin\, 12555\, Deutschland
CATEGORIES:Après Church
ATTACH;FMTTYPE=image/jpeg:https://kunsthofkoepenick.eu/wp-content/uploads/2022/04/TeresaBergman_Live5c_cHenrySchulz-scaled.jpg
ORGANIZER;CN="KunstHofK%C3%B6penick e.V.":MAILTO:verein@kunsthofkoepenick.eu
END:VEVENT
BEGIN:VEVENT
DTSTART;TZID=Europe/Berlin:20220710T113000
DTEND;TZID=Europe/Berlin:20220710T130000
DTSTAMP:20260425T223723
CREATED:20220403T173621Z
LAST-MODIFIED:20230108T153715Z
UID:10000182-1657452600-1657458000@kunsthofkoepenick.eu
SUMMARY:APRÈS CHURCH auf dem KunstHofKöpenick: Christoph Schenker
DESCRIPTION:Schon wieder eine Premiere\, also ein Erstbesuch auf dem KunstHofKöpenick  \nCHRISTOPH SCHENKER \n1 CELLO- 12 CELLISTEN?!  \nEin Vormittag für Solocello+ Liveelektronik   \nChristoph Schenker ist als Komponist\, Arrangeur\, Cellist und Bassist in den verschiedensten Genres zwischen Klassik und Jazz unterwegs. So arbeitet er zum Beispiel mit Anna Mateur\, dem berühmten Kabarett Academixer in Leipzig\, den Jazzpianisten Stephan König und Clemens Christian Poetzsch oder den Singer/ Songwriterinnen June Cocó und Nadine Maria Schmidt zusammen.  \nNach seinem Soloabend CHRISTOPH SCHENKER`S CELLOSOPHY ist er nun mit seinem neuen Programm 1 CELLO- 12 CELLISTEN?! auf Tournee. Die Performance besteht aus vielen neuen Stücken\, dem Besten seines Soloalbums „Cellosophy“ (Timezone Records)\, aus Improvisation und spontanem Groove. Klangflächen entstehen\, Songstrukturen bauen sich auf\, verschachtelte Rhythmen berauschen den Zuhörer – dazu braucht er nur sein Cello\, zwei Boxen\, viele Kabel\, elektronische Effekte und eine Loopstation.   \nEs wird ein Konzert\, in dem Christoph Schenker das klassische Instrument Cello in seinem Sinne modern definiert: kein Verharren in klischeehaften klassischen\, jazzigen\, rockigen Spieltechniken\, aber doch die zügellose Verwendung sämtlicher Klischees als Baukasten für frische Cellomusik aus dem 21. Jahrhundert.  \nEin Vormittag voller einzigartiger Song- und Klangerlebnisse – ausschließlich auf einem Cello gespielt und doch wie ein ganzes Orchester klingend.  \nUnd wir vom KunstHof meinen dazu:  \nDas freut den „Köpenicker Stadtstreicher“\, der ja auch „der Onkel mit der Laterne“ ist und auch ihr\, verehrtes Publikum\, werdet staunen.  \nAlso\, kommet in Scharen und begrüßt mit uns CHRISTOPH SCHENKER  \n  \nhttp://www.christophschenker.de  \nhttps://www.facebook.com/celloschenker  \n Die Veranstaltung wird unterstützt durch das Bezirksamt Treptow-Köpenick / Fachbereich Kultur und Museum. \nAPRÈS CHURCH auf dem KunstHofKöpenick am 10.07.2022: CHRISTOPH SCHENKER
URL:https://kunsthofkoepenick.eu/veranstaltungen/apres-church-auf-dem-kunsthofkoepenick-christoph-schenker/
LOCATION:KunstHofKöpenick\, Alt-Köpenick 12\, Berlin\, Berlin\, 12555\, Deutschland
CATEGORIES:Après Church
ATTACH;FMTTYPE=image/jpeg:https://kunsthofkoepenick.eu/wp-content/uploads/2022/04/Presse1-scaled.jpg
ORGANIZER;CN="KunstHofK%C3%B6penick e.V.":MAILTO:verein@kunsthofkoepenick.eu
END:VEVENT
BEGIN:VEVENT
DTSTART;TZID=Europe/Berlin:20220703T113000
DTEND;TZID=Europe/Berlin:20220703T130000
DTSTAMP:20260425T223723
CREATED:20220403T172936Z
LAST-MODIFIED:20230108T153604Z
UID:10000181-1656847800-1656853200@kunsthofkoepenick.eu
SUMMARY:APRÈS CHURCH auf dem KunstHofKöpenick: Paula Linke
DESCRIPTION:Es gehört eine ganze Menge Mut dazu\, einen festen Job an den Nagel zu hängen und als Freiberuflerin ins Liedermacher-Fach zu wechseln! (Frei nach „Deutsche Mugge“)   \nGar kein Mut hingegen gehört dazu\, uns auf dem KunsthofKöpenick zu besuchen\, denn wir haben sie eingeladen\, weil sie ist\, was sie ist.  \n Paula Linke \n„Wenn Mut zur Direktheit auf feine Sprache und berührende Bilder trifft\, passieren Paula Linkes Lieder – Wege im Grünen\, liebenswert verschrobene Personen und zeitlose Geschichten in einer komplexen\, herausfordernden Welt: Paula denkt singend nach\, sucht und findet Pfade zwischen Akkorden. Tänzerisch und nachdenklich\, klar\, bestimmt und kraftvoll.“  \nMit „ICH WILL NOCH RUNDER WERDEN“  legt die Leipzigerin ein drittes Album und ein vielschichtiges neues Programm vor. Den Häuten einer Zwiebel gleich begibt sie sich darin Lied für Lied in Gedankenexperimente.   \nMal ganz persönlich\, mal über den Tellerrand des eigenen Lebens blinzelnd\, packt Paula ihre Gedanken\, Wege und Fragen in eingängige Melodien und poetische Bilder\, die das Publikum nachdenklich\, berührt\, träumerisch und ein bisschen runder in die Nacht hinaus entlassen.  \nEigentlich von Haus aus Dramaturgin und Theaterpädagogin ist sie als Liedermacherin inzwischen mit dem Jury UND Publikumspreis der Hoyschrecke ausgezeichnet und schaffte es auf die Shortlist des Rio Reiser Songpreises.    \nDas finden wir absolut gerechtfertigt und trotzdem sind für unsere Einladung das einzige Kriterium ihre Lieder.  \nDenn Ihre Lieder sind eine Liebeserklärung an das Leben\, an die auftauchenden und verschwindenden Menschen und Orte\, Beobachtungen des Alltags\, „pur\, unverbraucht und unverhohlen\, frei von der Leber weg\, mal tiefgehende Gedanken\, mal ausgelassene Fröhlichkeit\, immer mit Herz und Verstand.“  \nUnd deshalb – sei uns herzlich Willkommen: \nPaula Linke  \nhttps://paula-linke.de/  \nhttps://www.facebook.com/paula.linke.33/  \nDie Veranstaltung wird unterstützt durch das Bezirksamt Treptow-Köpenick / Fachbereich Kultur und Museum. \nAPRÈS CHURCH auf dem KunstHofKöpenick am 03.07.2022: Paula Linke
URL:https://kunsthofkoepenick.eu/veranstaltungen/apres-church-auf-dem-kunsthofkoepenick-paula-linke/
LOCATION:KunstHofKöpenick\, Alt-Köpenick 12\, Berlin\, Berlin\, 12555\, Deutschland
CATEGORIES:Après Church
ATTACH;FMTTYPE=image/jpeg:https://kunsthofkoepenick.eu/wp-content/uploads/2022/04/Paula-Linke_Hoyschrecke_Torsten-Lu╠etzner.jpg
ORGANIZER;CN="KunstHofK%C3%B6penick e.V.":MAILTO:verein@kunsthofkoepenick.eu
END:VEVENT
BEGIN:VEVENT
DTSTART;TZID=Europe/Berlin:20220626T113000
DTEND;TZID=Europe/Berlin:20220626T130000
DTSTAMP:20260425T223723
CREATED:20220403T172211Z
LAST-MODIFIED:20220611T192737Z
UID:10000180-1656243000-1656248400@kunsthofkoepenick.eu
SUMMARY:APRÈS CHURCH auf dem KunstHofKöpenick: Adir Jan und Emrah Gökmen
DESCRIPTION:Photo by Yesim Duman \nWer erinnert sich nicht an den fulminanten Auftritt von Adir Jan beim Friedenskonzert 2021. Es ist uns eine Freude ihn nun auch auf dem KunstHofKöpenick begrüßen zu dürfen. Und er kommt nicht allein.  \nAdir Jan & Emrah Gökmen \nNeben ihren Herzen verbinden diese zwei langjährigen Weggefährten vor allem eins: ihre Liebe zur Musik. Der queere Singer-Songwriter und Tembûrist Adir Jan\, der mit seinem Cosmopolitan-Kurdesque-Sound schnell in den Transglobal World Music Charts landete\, trifft mit dem Sänger und Multiinstrumentalisten Emrah Gökmen auf eine Seele voller Liebe und Sehnsucht. Beide verbindet eine innige Freundschaft\, ihre Nähe zum Zazaischen und dem regen Leben in Berlin.   \nIhre Kunst drücken sie mit möglichst minimalen Mitteln aus: eine kleine Langhalslaute\, eine akustische Gitarre und ihre so unterschiedlichen\, doch gleichsam ineinander verschmelzenden Stimmen. Gemeinsam performen sie alte kurdisch-zazaische Lieder wie auch neue eigene Stücke\, die meist im gemeinsamen Spiel entstanden sind. Es ergibt sich eine organische Verbindung von Universellem und Traditionellem. Adir Jan und Emrah Gökmen verkörpern die Ästhetisierung dieses vermeintlichen Konflikts und lassen sich dabei gegenseitig Raum und Atem.  \nHerzlich Willkommen auf dem KunstHofKöpenick  \nAdir Jan & Emrah Gökmen  \n  \nhttp://adirjan.com  \nhttps://www.facebook.com/adirjam/ 
URL:https://kunsthofkoepenick.eu/veranstaltungen/apres-church-auf-dem-kunsthofkoepenick-adir-jan-und-emrah-goekmen/
LOCATION:KunstHofKöpenick\, Alt-Köpenick 12\, Berlin\, Berlin\, 12555\, Deutschland
CATEGORIES:Après Church
ATTACH;FMTTYPE=image/jpeg:https://kunsthofkoepenick.eu/wp-content/uploads/2022/04/Adir-Jan-Emrah-Goekmen-by-Yesim-Duman.jpg
ORGANIZER;CN="KunstHofK%C3%B6penick e.V.":MAILTO:verein@kunsthofkoepenick.eu
END:VEVENT
BEGIN:VEVENT
DTSTART;TZID=Europe/Berlin:20220619T113000
DTEND;TZID=Europe/Berlin:20220619T130000
DTSTAMP:20260425T223723
CREATED:20220403T171635Z
LAST-MODIFIED:20220511T100342Z
UID:10000179-1655638200-1655643600@kunsthofkoepenick.eu
SUMMARY:APRÈS CHURCH auf dem KunstHofKöpenick: Karl Neukauf
DESCRIPTION:Huch. Da isser ja schon wieder 🙂  \nKarl Neukauf  \nDa reibt die Eine sich die Augen und der Andere wundert sich\, haben wir den Karl nicht gerade erst bei Sweet Confusion auf der Bühen gesehen? Ja ja…das ist schon richtig\, aber dort sprang er ja dankenswerter Weise für Volkmar Große ein. Heute hinwiederum ist er einzig und allein als  \ndas hier was er eigentlich ist.  \nKARL NEUKAUF  \n  \nKarl Neukauf ist Musiker\, Liederschreiber & Produzent in der Gattung „Neue Berliner Chansons“.  \nSein letztes Album „Hinter Geranien und Gardinen“ erschien 2018\, erhielt den Jurypreis der „Deutschen Schallplattenkritik“ und das „Schall-Magazin“ bezeichnet es als eines der „ausdrucksstärksten Alben der letzten Jahre“.   \nNeben seinen eigenen Liedern und Platten hat er in den letzten Jahren auch die jeweils neuen Werke von Pankow Sänger André Herzberg\, den 3HIGHligen\, der Schauspielerin Judith Hoersch und Danny Dziuk (Co-Produktion) produziert.    \nSeit 2018 ist er außerdem für die Bühnenmusik & Kompositonen beim Burgtheatersommer Rosslau verantwortlich. Und da fährt er ab morgen auch wieder hin. Umso besser\, daß wir ihn heute noch auf dem KunstHof begrüßen können.  \nUnd das zusammen mit der Percussionistin Ilka Posin.   \nTauchen wir also ein in seine Welt und sicher gibt es auch schon Kostproben aus seinem erst im Herbst erscheinenden Album  \n  \nWir freuen uns auf: \nKARL NEUKAUF  \n  \nhttps://www.karlneukauf.de  \nhttps://www.facebook.com/karlneukauf 
URL:https://kunsthofkoepenick.eu/veranstaltungen/apres-church-auf-dem-kunsthofkoepenick-karl-neukauf/
LOCATION:KunstHofKöpenick\, Alt-Köpenick 12\, Berlin\, Berlin\, 12555\, Deutschland
CATEGORIES:Après Church
ATTACH;FMTTYPE=image/jpeg:https://kunsthofkoepenick.eu/wp-content/uploads/2022/04/Presse2022_Fotocredit_ToniaFechter.jpg
ORGANIZER;CN="KunstHofK%C3%B6penick e.V.":MAILTO:verein@kunsthofkoepenick.eu
END:VEVENT
BEGIN:VEVENT
DTSTART;TZID=Europe/Berlin:20220612T113000
DTEND;TZID=Europe/Berlin:20220612T130000
DTSTAMP:20260425T223723
CREATED:20220403T162805Z
LAST-MODIFIED:20220511T100409Z
UID:10000178-1655033400-1655038800@kunsthofkoepenick.eu
SUMMARY:APRÈS CHURCH auf dem KunstHofKöpenick: Trio Infernale
DESCRIPTION:Aufgemerkt und KunstHof gestürmt. Dirk Zöllner hat (morgen) Geburtstag! \nUnd zu SEINEM Geburtstag haben WIR uns was gewünscht.  \nDie Zöllner im Trio Infernale \n  \nIn genau dieser Konstellation Zöllner-Gensicke-Unterberg\, waren sie ja schon einmal zu Gast und da hatte keiner Geburtstag und das war schon toll. Was wird uns also erwarten.  \n  \nZunächst natürlich die Umsetzung des ZÖLLNER Oeuvres aus nunmehr fast 35 Jahren mit anderen Mitteln. 1987 wurden DIE ZÖLLNER von Dirk und Andre als Duo gegründet\, mittlerweile gibt es viele verschiedene Besetzungen von der Bigband über das Duo bis zu den ZÖLLNER 5.   \nDiese Trio Variante\, erweitert um den Köpenicker Stadtstreicher Tobias Unterberg\, ist die neueste im ZÖLLNER Kosmos und hat ihren ganz eigenen Charme.   \nMal laut mal leise pflügen die „3 Musketiere 3 Musiktiere“ durch die neuen und alten Songs und umgarnen Dirks Stimme lediglich mit Klavier\, Gitarre und Cello. Das hat Klasse und ist erfrischend. Auch durchaus erfrischend komisch zwischendurch.   \nFreut euch mit uns auf  \nDie Zöllner im Trio Infernale \n  \nDirk Zöllner (Git-Voc) \nAndre Gensicke (Piano\, BackVoc) \nTobias Unterberg (Cello\, BackVoc) \n\n \nwww.die-zoellner.de  \nwww.b-deutung.berlin
URL:https://kunsthofkoepenick.eu/veranstaltungen/apres-church-auf-dem-kunsthofkoepenick-trio-infernale/
LOCATION:KunstHofKöpenick\, Alt-Köpenick 12\, Berlin\, Berlin\, 12555\, Deutschland
CATEGORIES:Après Church
ATTACH;FMTTYPE=image/png:https://kunsthofkoepenick.eu/wp-content/uploads/2022/04/TrioBild.png
ORGANIZER;CN="KunstHofK%C3%B6penick e.V.":MAILTO:verein@kunsthofkoepenick.eu
END:VEVENT
BEGIN:VEVENT
DTSTART;TZID=Europe/Berlin:20220605T113000
DTEND;TZID=Europe/Berlin:20220605T130000
DTSTAMP:20260425T223723
CREATED:20220403T162103Z
LAST-MODIFIED:20220530T111224Z
UID:10000177-1654428600-1654434000@kunsthofkoepenick.eu
SUMMARY:APRÈS CHURCH auf dem KunstHofKöpenick: Andi Valandi & Band
DESCRIPTION:https://kunsthofkoepenick.eu/wp-content/uploads/2022/04/2022_6_berlin.mp3\nAuch mal wieder in Köpenick – lang ist es her!  \nWillkommen auf dem KunstHof Andi Valandi & Band   \nMit ihrem aktuellen Album „Arbeitslose Pornokatzen und ein kleines bisschen Wein“ gehen Andi Valandi & Band aufs Ganze – und ins Detail: Für die schöne Welt und das fette Glück müssen schließlich die Verhältnisse ins Wanken gebracht werden – Rebellion ist Phase – aber „draußen in der Natur und ein kleines bisschen Wein“ tut es wahlweise auch. Mit der neuen Scheibe will die Band wieder pornomäßig abgehen und ist bereit\, alles zu geben\, außer der Katze. Popmusik is nich so cool\, Müßiggang ist Gold. Und als kleiner Rat im Vorhinein: Lasst den Kopf nicht hängen!   \nBesetzung:  \nAndi Valandi (Gesang\, Gitarre\, Texte\, Kompositionen)\, Frank Dresig (Keyboard\, Mundharmonika)\, Lena Kandler (Schlagzeug)  \n  \nwww.andivalandi.de  \nhttps://www.facebook.com/andivalandi  \n 
URL:https://kunsthofkoepenick.eu/veranstaltungen/apres-church-auf-dem-kunsthofkoepenick-andi-valandi/
LOCATION:KunstHofKöpenick\, Alt-Köpenick 12\, Berlin\, Berlin\, 12555\, Deutschland
CATEGORIES:Après Church
ATTACH;FMTTYPE=image/jpeg:https://kunsthofkoepenick.eu/wp-content/uploads/2022/04/DSCF3722-1.jpg
ORGANIZER;CN="KunstHofK%C3%B6penick e.V.":MAILTO:verein@kunsthofkoepenick.eu
END:VEVENT
BEGIN:VEVENT
DTSTART;TZID=Europe/Berlin:20220529T113000
DTEND;TZID=Europe/Berlin:20220529T130000
DTSTAMP:20260425T223723
CREATED:20220403T161535Z
LAST-MODIFIED:20220602T150342Z
UID:10000176-1653823800-1653829200@kunsthofkoepenick.eu
SUMMARY:APRÈS CHURCH auf dem KunstHofKöpenick: Sweet Confusion
DESCRIPTION:Hurra\, da sind sie wieder. Begrüßt mit uns nach 2 Jahren wieder auf dem KunstHofKöpenick  \nSweet Confusion \nEs ist soweit! Hinsetzen und fallen lassen oder aufstehen und abfliegen! \nSteffi Breiting lebt für das Singen. Gesegnet mit einer Stimme\, in der Sehnsucht und auch Kraft zu Hause sind und die den Vergleich mit anderen großen Sängerinnen wie Etta James oder Amy Winehouse nicht scheuen muss\, bringt sie zusammen mit ihrer Band “Sweet Confusion” Musik auf die Bühne\, die verzaubert und bewegt und uns an den Soundtrack von Love\, Peace & Understanding erinnert. Klassischen Rock- und Soulstücke werden genauso zum Leuchten gebracht\, wie verschüttete Perlen des Musikkosmos.  \nWir sind uns sicher\, alle die 2020 beim Konzert waren werden wiederkommen und wer das Konzert seinerzeit verpasst hat\, der sollte es sich diesmal wirklich nicht entgehen lassen.  \nUnd wer aber 2020 beim Konzert war\, der weiß natürlich\, dass neben Steffi der großartige Tobias Hillig an der Gitarre und Volkmar Große am Kontrabass zum Lineup gehören.  \nEigentlich. Denn Volkmar\, der ja auch schon mit seiner Band „Großes Handgemenge“ unser Gast war\, ist leider mit eben dieser Band auf einer Tournee.  \nWir dürfen aber erfreut mitteilen\, dass Steffi und Tobias für dieses Konzert bei uns durch den wunderbaren Karl Neukauf ergänzt werden. Und das an Tasten und Gitarre. Es ist also kein schnöder Ersatz von Volkmar\, sondern eine neue Variante von Sweet Confusion\, die euch nebenbei die Möglichkeit eröffnet Karl schon einmal kennenzulernen\, der ja am 19.Juni mit seinem eigenen Programm beim Aprés Church sein wird.  \nWillkommen zurück auf dem KunstHofKöpenick! \nSweet Confusion  \nHier geht´s zum Beitrag “So war´s”: https://kunsthofkoepenick.eu/2022/06/02/apres-church-auf-dem-kunsthofkoepenick-am-29-mai-2022-sweet-confusion-2/ \nhttps://www.sweetconfusion.de/  \nhttps://www.facebook.com/Sweetconfusions 
URL:https://kunsthofkoepenick.eu/veranstaltungen/apres-church-auf-dem-kunsthofkoepenick-sweet-confusion/
LOCATION:KunstHofKöpenick\, Alt-Köpenick 12\, Berlin\, Berlin\, 12555\, Deutschland
CATEGORIES:Après Church
ATTACH;FMTTYPE=image/jpeg:https://kunsthofkoepenick.eu/wp-content/uploads/2022/04/IMG_0641-scaled.jpg
ORGANIZER;CN="KunstHofK%C3%B6penick e.V.":MAILTO:verein@kunsthofkoepenick.eu
END:VEVENT
BEGIN:VEVENT
DTSTART;TZID=Europe/Berlin:20220522T113000
DTEND;TZID=Europe/Berlin:20220522T130000
DTSTAMP:20260425T223723
CREATED:20220403T155812Z
LAST-MODIFIED:20220525T141047Z
UID:10000175-1653219000-1653224400@kunsthofkoepenick.eu
SUMMARY:APRÈS CHURCH auf dem KunstHofKöpenick: Eva Keretic
DESCRIPTION:Eva Keretic \nGute Songs\, Hingabe und eine inspirierende Atmosphäre – mehr  \nist nicht nötig\, findet Eva – und mehr braucht sie auch tatsächlich  \nnicht\, um schon nach kurzer Zeit eine Verbindung zu ihren  \nZuhörern herzustellen. Sie hat die besondere Gabe\, Gefühle  \nohne Kitsch zu transportieren.  \nDie in New York geborene Wahl-Hamburgerin schrieb schon früh  \nihre ersten eigenen Songs. Doch erst als erwachsene Frau  \nstartete Eva richtig durch. Bei ihrem ersten Plattenvertrag mit  \nWarner Music war sie schon Mitte 30. Als Support Act für Marius  \nMüller-Westernhagen spielte sie vor 30 000 Menschen. Mit  \nRichard Marx sang sie im Duett bei mehreren Live-Konzerten.  \n  \nInzwischen hat Eva sechs Alben veröffentlicht und zahllose  \nAuftritte auf kleinen und großen Bühnen absolviert – mal solo\, mal  \nmit ihrem Duo-Partner Fontaine-Burnett\, mal mit Band.  \n  \nZudem ist Eva musikalische Leiterin der  \nStiftung „Many Children- One World“ und schreibt Lieder mit  \nKindern auf der ganzen Welt\, um das interkulturelle Bewusstsein  \nfür Frieden und Verständigung zu stärken.  \n  \nEvas Wirken wird durch ihre Auffassung inspiriert\, dass Musik  \nEmotionen auf eine höhere Ebene bringt und egal wie\, wann oder  \nwo man sie einbezieht\, das Leben etwas leichter wird.  \n  \nDem können wir nur zustimmen und begrüßen herzlich und zum ersten mal auf dem KunstHofKöpenick  \nEva Keretic  \n  \nHier geht´s zum Beitrag “So war´s”: https://kunsthofkoepenick.eu/2022/05/25/apres-church-auf-dem-kunsthofkoepenick-am-12-mai-2022-eva-keretic/ \n  \nwww.evakeretic.com  \nhttps://www.facebook.com/pages/Eva-Music/118669641495676  \n 
URL:https://kunsthofkoepenick.eu/veranstaltungen/apres-church-auf-dem-kunsthofkoepenick-eva-keretic/
LOCATION:KunstHofKöpenick\, Alt-Köpenick 12\, Berlin\, Berlin\, 12555\, Deutschland
CATEGORIES:Après Church
ATTACH;FMTTYPE=image/jpeg:https://kunsthofkoepenick.eu/wp-content/uploads/2022/04/Eva_Concert_HL0A3091-scaled.jpg
ORGANIZER;CN="KunstHofK%C3%B6penick e.V.":MAILTO:verein@kunsthofkoepenick.eu
END:VEVENT
BEGIN:VEVENT
DTSTART;TZID=Europe/Berlin:20220515T113000
DTEND;TZID=Europe/Berlin:20220515T130000
DTSTAMP:20260425T223723
CREATED:20220403T155022Z
LAST-MODIFIED:20220517T092729Z
UID:10000174-1652614200-1652619600@kunsthofkoepenick.eu
SUMMARY:APRÈS CHURCH auf dem KunstHofKöpenick: Bastian Bandt
DESCRIPTION:Nachdem die ersten drei Termine Après Church 2022  neuen Gesichtern vorbehalten waren\, freuen wir uns sehr\, einen „alten“ Freund wieder zu begrüßen.  \nBastian Bandt \nBastian war 2019 schon einmal bei uns auf dem KunstHof und es war ein wunderbares Konzert.  \nEin Mikrofon\, eine Stimme\, eine Gitarre und seine Lieder. Mehr braucht es nicht\, um jeden und jede in einen Bann zu ziehen. Der brandenburger Liedermacher aus der Uckermark ist bei weitem kein unbeschriebenes Blatt. Solo oder mit Band tummelt er sich auf den Bühnen dieses Landes oder schreibt Musiken für Theaterinszenierungen. Alleine 4x! konnte er sich bisher den Preis der Hoyschrecke auf den Kamin stellen.  \nZum Glück bleibt da zwischendurch immer wieder Zeit\, um an neuen Alben zu arbeiten. Ein Vögelchen zwitscherte\, dass ein neues Album in der Pipeline ist und wir werden sicher auch daraus schon etwas hören dürfen.  \nH.- M.Klemt schreibt über Bastian:  \n„Schon auf seinen ersten beiden Alben\, \,’Stroh aus Gold‘ und ‚Nach Osten“\, hat Bastian Bandt bewiesen\, dass er Lieder schreiben kann mit der theatralischen Kraft eines Georg Büchners. Mit „Alle Monde“ verdiente er sich jetzt nicht nur den Preis der deutschen Schallplattenkritik\, sondern offenbart einen gereiften Liederdichter\, der sich sein Land und seine Geschichte zurückgeholt hat. Jedem sarkastischen Grinsen zieht er ein befreiendes Lachen vor\, ohne auf zärtliche Melancholie zu verzichten. Wer ein Konzert mit dem 40-Jährigen genossen hat\, der geht mit einem Stück Weltraum in der Brust und möchte glauben\, dass Leben schön weh tut.“  \nSo kann man es auch sagen. Aber….hört doch selbst.  \nWillkommen zurück! \nBastian Bandt  \n  \nHier geht´s zum Beitrag “So war´s”: https://kunsthofkoepenick.eu/2022/05/17/apres-church-auf-dem-kunsthofkoepenick-am-15-mai-2022-bastian-bandt/ \n  \nhttps://bastianbandt.de  \nhttps://www.facebook.com/bastian.bandt.3 
URL:https://kunsthofkoepenick.eu/veranstaltungen/apres-church-auf-dem-kunsthofkoepenick-bastian-bandt/
LOCATION:KunstHofKöpenick\, Alt-Köpenick 12\, Berlin\, Berlin\, 12555\, Deutschland
CATEGORIES:Après Church
ATTACH;FMTTYPE=application/pdf:https://kunsthofkoepenick.eu/wp-content/uploads/2022/04/Poster_solo-1.pdf
ORGANIZER;CN="KunstHofK%C3%B6penick e.V.":MAILTO:verein@kunsthofkoepenick.eu
END:VEVENT
BEGIN:VEVENT
DTSTART;TZID=Europe/Berlin:20220508T113000
DTEND;TZID=Europe/Berlin:20220508T130000
DTSTAMP:20260425T223723
CREATED:20220403T153218Z
LAST-MODIFIED:20220512T122251Z
UID:10000173-1652009400-1652014800@kunsthofkoepenick.eu
SUMMARY:APRÈS CHURCH auf dem KunstHofKöpenick: TradTöchter - neue Geigenmusik!
DESCRIPTION:TradTöchter – neue Geigenmusik! \nNach Holly und Micha schon wieder neue Gesichter auf der KunstHof-Bühne.  Die TradTöchter kommen uns besuchen und wir freuen uns! \n  \nDie beiden Musikerinnen lieben traditionelle Tanzmusik genauso wie modern folk und spielen zum schwofen\, zuhören und abtanzen.  \nBerückende Melodien aus eigener Feder gesellen sich zu mitreißenden Arrangements traditioneller Stücke und Lieder. Denn nicht nur Instrumentalmelodien bringen die beiden Geigerinnen in die Tanz – und Konzertsäle\, es wird auch getrallt und gesungen.  \nMal sanft\, mal wild\, von Sehnsucht\, goldenen Ringlein\, der weiten See\, wilden Ausschweifungen und faulen Äpfeln. \n  \nDas Duo TradTöchter  bezaubert Tänzer genauso wie Zuhörer\, bringt Ohren zum Tanzen und Füße zum Lauschen.   \nIhr wollt die eindringliche\, fast magische Macht erleben\, die Musik auf uns Menschen ausübt\, die Alchemie zwischen Tänzern und Musikern spüren\, wenn der Funke überspringt?  \nDie Musik und der Groove der beiden Geigerinnen machen es möglich!  \n  \nFreuen wir uns auf:  \nVivien Zeller – Geige\, Gesang  \nUrsula Suchanek – Quinton\, Gesang  \n  \nHier geht´s zum Beitrag “So war´s”: https://kunsthofkoepenick.eu/2022/05/11/tradtoechter/ \n  \nhttps://www.tradtoechter.com  \nhttps://www.facebook.com/tradtoechter 
URL:https://kunsthofkoepenick.eu/veranstaltungen/apres-church-auf-dem-kunsthofkoepenick-tradtoechter-neue-geigenmusik/
LOCATION:KunstHofKöpenick\, Alt-Köpenick 12\, Berlin\, Berlin\, 12555\, Deutschland
CATEGORIES:Après Church
ATTACH;FMTTYPE=image/jpeg:https://kunsthofkoepenick.eu/wp-content/uploads/2022/04/Zeller-Suchanek_DSC_0253C3Sx2-scaled.jpg
ORGANIZER;CN="KunstHofK%C3%B6penick e.V.":MAILTO:verein@kunsthofkoepenick.eu
END:VEVENT
BEGIN:VEVENT
DTSTART;TZID=Europe/Berlin:20220501T113000
DTEND;TZID=Europe/Berlin:20220501T130000
DTSTAMP:20260425T223723
CREATED:20220403T151935Z
LAST-MODIFIED:20220512T122352Z
UID:10000242-1651404600-1651410000@kunsthofkoepenick.eu
SUMMARY:APRÈS CHURCH auf dem KunstHofKöpenick: Michael Seidel
DESCRIPTION:Seidel Singt \nZiemlich beste Lieder \nWELTPREMIERE BEIM APRÉS CHURCH!!! \nSeit Micha Seidel ins Brandenburger Hinterland gezogen ist dreht sich in seinen Liedern fast alles um seine Kleine Welt. Heimat ist hier rau\, poetisch und echt. Genau wie Seidels Lieder aus der Provinz. Hier wird Gemeinschaft noch großgeschrieben und doch macht jeder seins. Hier erzählt man sich Geschichten über den Gartenzaun\, hält das Früher für das bessere Heute\, ist aber niemals unterhopft. Hier lebt man noch das wahre Leben.  \nDiese Welt erzählen und besingen\, dass ist das was Seidel kann.  \nStilsicher führt uns Micha Seidel durch seine „Kleine Welt – Musik“ und passt dabei in keine Schublade. Er singt über sein Dorf\, die Rohrdommel\, den Osten\, Wurst und Honig. Er singt über Worte\, die über Bord gegangen sind\, über Faulheit und Muße\, über Liebe\, Landwirtschaft und den Unsinn des Lebens. Darüber wie die „Kleine Welt“ zusammenhält und die „Große“ auseinanderfällt.  \nBei Seidel ist immer „Land in Sicht“.  \nSeit fast 50 Jahren steht Micha Seidel schon auf der Bühne. Mal als Entertainer mit dem Vogel auf der Brille beim „Schauorchester Ungelenk“\, mal als Frontmann von „Polkaholix“ oder als Reiseleiter im Wartburg bei „Steimles Welt“.  \nNun ist er endlich mit seinem ersten Solo-Programm unterwegs. Als Sänger\, Musiker und Entertainer in seinem eigenen Provinztheater.  \nBei seiner Weltpremiere in Köpenick wird er musikalisch unterstützt von André Kuntze\, Matthias „Felix“ Lauschus und Mario Rühl.  \nNa\, dann kann ja nichts schief gehen!  \nHier geht´s zum Beitrag “So war´s”: https://kunsthofkoepenick.eu/2022/05/03/apres-church-auf-dem-kunsthofkoepenick-michael-seidel-band-am-01-05-22/ \nhttps://www.seidel-singt.de  \nhttps://www.facebook.com/michael.seidel.14473426 
URL:https://kunsthofkoepenick.eu/veranstaltungen/apres-church-auf-dem-kunsthofkoepenick-michael-seidel/
LOCATION:KunstHofKöpenick\, Alt-Köpenick 12\, Berlin\, Berlin\, 12555\, Deutschland
CATEGORIES:Après Church
ATTACH;FMTTYPE=image/jpeg:https://kunsthofkoepenick.eu/wp-content/uploads/2022/04/SeidelSingt-Pressefoto-1-scaled.jpg
ORGANIZER;CN="KunstHofK%C3%B6penick e.V.":MAILTO:verein@kunsthofkoepenick.eu
END:VEVENT
END:VCALENDAR