BEGIN:VCALENDAR
VERSION:2.0
PRODID:-//KunstHofKöpenick - ECPv6.5.1.5//NONSGML v1.0//EN
CALSCALE:GREGORIAN
METHOD:PUBLISH
X-WR-CALNAME:KunstHofKöpenick
X-ORIGINAL-URL:https://kunsthofkoepenick.eu
X-WR-CALDESC:Veranstaltungen für KunstHofKöpenick
REFRESH-INTERVAL;VALUE=DURATION:PT1H
X-Robots-Tag:noindex
X-PUBLISHED-TTL:PT1H
BEGIN:VTIMEZONE
TZID:Europe/Berlin
BEGIN:DAYLIGHT
TZOFFSETFROM:+0100
TZOFFSETTO:+0200
TZNAME:CEST
DTSTART:20260329T010000
END:DAYLIGHT
BEGIN:STANDARD
TZOFFSETFROM:+0200
TZOFFSETTO:+0100
TZNAME:CET
DTSTART:20261025T010000
END:STANDARD
END:VTIMEZONE
BEGIN:VEVENT
DTSTART;TZID=Europe/Berlin:20260503T113000
DTEND;TZID=Europe/Berlin:20260503T130000
DTSTAMP:20260423T105329
CREATED:20260228T171353Z
LAST-MODIFIED:20260302T102607Z
UID:10000343-1777807800-1777813200@kunsthofkoepenick.eu
SUMMARY:Après Church auf dem KunstHofKöpenick: Bernd Rinser
DESCRIPTION:„Der Blues existiert\, seit die Welt existiert. Der Blues ist die Wurzel der Musik\, von Rock´n´Roll und Punk oder was sonst noch…“\nDas meinte einst John Lee Hooker und Bernd Rinser sieht das genauso und hat sich in Allem\, was er tut\, dem Blues verschrieben. Und dafür geht er musikalisch zurück bis an die Wurzel\, in die Zeit als es die strikte Trennung von Blues und Folk noch gar nicht gab. \nRootsRock\, Folk Songs & Street Dog Blues\nBernd Rinser kommt aus den Südstaaten\, also aus Bayern 🙂 und begeisterte uns vor zwei Jahren mit seiner Stimme\, seinen! Songs\, seiner musikalischen Umsetzung und nicht zuletzt heimste er den inoffiziellen Preis für das beste Bühnenbild ein. \n Treibende Riffs\, bluesige Zugfahrbeats\, Balladen\, Folksongs\, Boogies\, Geschichten und Geschichte. Der Blues lebt! \nWir freuen uns auf \n Bernd Rinser \n\n! Bitte beachtet die aktuellen Informationen der BVG zur Streckenführung wegen der Bauarbeiten in der Altstadt! \nhttps://tkt-berlin.de/allgemeine-informationen \n\nAprès Church\, die nachbarschaftliche verbindende Veranstaltungsreihe zum Erleben von Kultur bei Kaffee\, Wein\, Bier oder alkoholfreien Getränken \nJeden Sonntag 11.30Uhr bis 13.00Uhr auf dem KunstHofKöpenick \n– Alt Köpenick 12. Einlass ab 11Uhr – EINTRITT FREI! – \nHÖRT IHR DIE GLOCKEN\, MACHT EUCH AUF DIE SOCKEN!
URL:https://kunsthofkoepenick.eu/veranstaltungen/apres-church-auf-dem-kunsthofkoepenick-bernd-rinser-2/
LOCATION:KunstHofKöpenick\, Alt-Köpenick 12\, Berlin\, Berlin\, 12555\, Deutschland
CATEGORIES:Après Church
ATTACH;FMTTYPE=image/jpeg:https://kunsthofkoepenick.eu/wp-content/uploads/2026/02/Screenshot_20230924_205410_Gallery-1140x445-1.jpg
ORGANIZER;CN="KunstHofK%C3%B6penick e.V.":MAILTO:verein@kunsthofkoepenick.eu
END:VEVENT
BEGIN:VEVENT
DTSTART;TZID=Europe/Berlin:20260510T113000
DTEND;TZID=Europe/Berlin:20260510T130000
DTSTAMP:20260423T105329
CREATED:20260228T172101Z
LAST-MODIFIED:20260302T103031Z
UID:10000344-1778412600-1778418000@kunsthofkoepenick.eu
SUMMARY:Après Church auf dem KunstHofKöpenick: Laura Dee
DESCRIPTION:Laura Dee – Courageuses\nManchmal gibt es Dinge\, die scheinbar einfach passieren müssen. Da flatterte Anfang 2025 eine Bewerbung bei uns ein\, die natürlich wie alle anderen\, sofort vom „Onkel mit der Laterne“ gecheckt und sehr schnell für äußerst passend befunden wurde. Also sofortige Zusage für \nLaura Dee \nKaum 3 Wochen später spielten Ronja und Fede bei uns und wer saß im Publikum und gab als Gästin noch zwei Lieder zu Gehör? \nLaura Dee \nDie aus Süddeutschland stammende und seit 2013 in Berlin-Kreuzberg wohnhafte Pianistin und Sängerin hat sich nach Ausflügen in Klassik\, Country und TripHop nun dem Chanson-Writing hingegeben. Nun teilt sie avec plaisir mit ihren Zuhörern ihre große Leidenschaft: Singen auf Französisch! Mal als blau-weiß-roter Farbtupfer im Tipi am Kanzleramt\, mal bei einem französischen Fest\, immer mit Herz und Humor. \nUnd nun zum Muttertag\, wo wir immer was ganz Besonderes bieten wollen\, bei uns auf dem KunstHofKöpenick! \nMit ihrem aktuellen Klavier-Album „Courageuses“ (mutige Frauen) tourt sie durch Deutschland und erzählt augenzwinkernd\, charmant und stets leichtfüßig ihre Geschichten. Dabei glitzert die schöne Sprache fast genauso wie ihr flinkes Klavierspiel. Gesangsloops runden das Klangbild samtig ab. Alle liebevoll gesammelten Musikeinflüsse schimmern irgendwann durch. Ein Programm für Musikliebhabende\, Feministen\, Frankophile und solche\, die es noch werden wollen! \nAlso dann\, ihr mutigen Frauen\, ob Mütter oder nicht. Feiert mit uns den Muttertag und heißt Willkommen erstmals auf dem KunstHofKöpenick – \nLaura Dee\n Foto: Lüder – Lindau \n! Bitte beachtet die aktuellen Informationen der BVG zur Streckenführung wegen der Bauarbeiten in der Altstadt! \nhttps://tkt-berlin.de/allgemeine-informationen \nAprès Church\, die nachbarschaftliche verbindende Veranstaltungsreihe zum Erleben von Kultur bei Kaffee\, Wein\, Bier oder alkoholfreien Getränken \nJeden Sonntag 11.30Uhr bis 13.00Uhr auf dem KunstHofKöpenick \n– Alt Köpenick 12. Einlass ab 11Uhr – EINTRITT FREI! – \nHÖRT IHR DIE GLOCKEN\, MACHT EUCH AUF DIE SOCKEN!
URL:https://kunsthofkoepenick.eu/veranstaltungen/apres-church-auf-dem-kunsthofkoepenick-laura-dee/
LOCATION:KunstHofKöpenick\, Alt-Köpenick 12\, Berlin\, Berlin\, 12555\, Deutschland
CATEGORIES:Après Church
ATTACH;FMTTYPE=image/jpeg:https://kunsthofkoepenick.eu/wp-content/uploads/2026/02/Laura-Dee_Lueder-Lindau.jpeg
ORGANIZER;CN="KunstHofK%C3%B6penick e.V.":MAILTO:verein@kunsthofkoepenick.eu
END:VEVENT
BEGIN:VEVENT
DTSTART;TZID=Europe/Berlin:20260531T113000
DTEND;TZID=Europe/Berlin:20260531T130000
DTSTAMP:20260423T105329
CREATED:20260228T173300Z
LAST-MODIFIED:20260228T173318Z
UID:10000347-1780227000-1780232400@kunsthofkoepenick.eu
SUMMARY:Après Church auf dem KunstHofKöpenick: Duo Liaisong
DESCRIPTION:Ein Liederverhältnis – 2 Stimmen\, 2 Herzen. Joerg Naßler gastierte schon mit Bastian Bandt bei uns. Nun kommt er mit Dunja Averdung und wir freuen uns!
URL:https://kunsthofkoepenick.eu/veranstaltungen/apres-church-auf-dem-kunsthofkoepenick-duo-liaisong/
LOCATION:KunstHofKöpenick\, Alt-Köpenick 12\, Berlin\, Berlin\, 12555\, Deutschland
CATEGORIES:Après Church
ORGANIZER;CN="KunstHofK%C3%B6penick e.V.":MAILTO:verein@kunsthofkoepenick.eu
END:VEVENT
BEGIN:VEVENT
DTSTART;TZID=Europe/Berlin:20260607T113000
DTEND;TZID=Europe/Berlin:20260607T130000
DTSTAMP:20260423T105329
CREATED:20260228T173640Z
LAST-MODIFIED:20260228T173640Z
UID:10000348-1780831800-1780837200@kunsthofkoepenick.eu
SUMMARY:Après Church auf dem KunstHofKöpenick: MTS
DESCRIPTION:Mut\, Tatendrang & Schönheit oder Melodie\, Tempo & Stärke oder Macht\, Talent & Stil. Oder doch inzwischen Mürrisch\, Tatterig & Senil? Wir sind gespannt und freuen uns auf die Urgesteine der gepflegten Unterhaltung!
URL:https://kunsthofkoepenick.eu/veranstaltungen/apres-church-auf-dem-kunsthofkoepenick-mts/
LOCATION:KunstHofKöpenick\, Alt-Köpenick 12\, Berlin\, Berlin\, 12555\, Deutschland
CATEGORIES:Après Church
ORGANIZER;CN="KunstHofK%C3%B6penick e.V.":MAILTO:verein@kunsthofkoepenick.eu
END:VEVENT
BEGIN:VEVENT
DTSTART;TZID=Europe/Berlin:20260614T113000
DTEND;TZID=Europe/Berlin:20260614T130000
DTSTAMP:20260423T105329
CREATED:20260228T173928Z
LAST-MODIFIED:20260228T173928Z
UID:10000349-1781436600-1781442000@kunsthofkoepenick.eu
SUMMARY:Après Church auf dem KunstHofKöpenick: Teresa Bergman
DESCRIPTION:Da ist eine Freundschaft gewachsen\, seit die Neuseeländerin und Wahlberlinerin das erste Mal bei uns war. Teresa präsentiert große Kunst mit großem Spaß und sehr großem Herz!
URL:https://kunsthofkoepenick.eu/veranstaltungen/apres-church-auf-dem-kunsthofkoepenick-teresa-bergman-2/
LOCATION:KunstHofKöpenick\, Alt-Köpenick 12\, Berlin\, Berlin\, 12555\, Deutschland
CATEGORIES:Après Church
ORGANIZER;CN="KunstHofK%C3%B6penick e.V.":MAILTO:verein@kunsthofkoepenick.eu
END:VEVENT
BEGIN:VEVENT
DTSTART;TZID=Europe/Berlin:20260621T113000
DTEND;TZID=Europe/Berlin:20260621T130000
DTSTAMP:20260423T105329
CREATED:20260228T174348Z
LAST-MODIFIED:20260228T174348Z
UID:10000350-1782041400-1782046800@kunsthofkoepenick.eu
SUMMARY:Après Church auf dem KunstHofKöpenick: Julian Wolf
DESCRIPTION:Der Gitarrenvirtuose aus Radebeul ist preisgekrönt und weitgereist. Nun schaut er in Köpenick vorbei. Innovative Spieltechnik trifft auf emotionale Tiefe und Bühnenpräsenz!
URL:https://kunsthofkoepenick.eu/veranstaltungen/apres-church-auf-dem-kunsthofkoepenick-julian-wolf/
LOCATION:KunstHofKöpenick\, Alt-Köpenick 12\, Berlin\, Berlin\, 12555\, Deutschland
CATEGORIES:Après Church
ORGANIZER;CN="KunstHofK%C3%B6penick e.V.":MAILTO:verein@kunsthofkoepenick.eu
END:VEVENT
BEGIN:VEVENT
DTSTART;TZID=Europe/Berlin:20260628T113000
DTEND;TZID=Europe/Berlin:20260628T130000
DTSTAMP:20260423T105329
CREATED:20260228T174704Z
LAST-MODIFIED:20260228T175227Z
UID:10000351-1782646200-1782651600@kunsthofkoepenick.eu
SUMMARY:Après Church auf dem KunstHofKöpenick: Malte Viefs Kammer
DESCRIPTION:Kraftvolle musikalische Bewegung\, unerschöpflich und erlebnisreich. 3 Meister an Gitarre\, Cello und Violine. Reflexiv – Kreativ – Innovativ! PS: Der Teufelsgeiger Florian Mayer ist mit an Bord.
URL:https://kunsthofkoepenick.eu/veranstaltungen/apres-church-auf-dem-kunsthofkoepenick-malte-viefs-kammer/
LOCATION:KunstHofKöpenick\, Alt-Köpenick 12\, Berlin\, Berlin\, 12555\, Deutschland
CATEGORIES:Après Church
ORGANIZER;CN="KunstHofK%C3%B6penick e.V.":MAILTO:verein@kunsthofkoepenick.eu
END:VEVENT
BEGIN:VEVENT
DTSTART;TZID=Europe/Berlin:20260705T113000
DTEND;TZID=Europe/Berlin:20260705T130000
DTSTAMP:20260423T105329
CREATED:20260228T175156Z
LAST-MODIFIED:20260228T175156Z
UID:10000352-1783251000-1783256400@kunsthofkoepenick.eu
SUMMARY:Après Church auf dem KunstHofKöpenick: Red Chucks
DESCRIPTION:Eine Band so facettenreich wie ein gut gefülltes Orchestrion mit Kontrabass\, Geige\, Tenorgitarre\, Miniklavier\, Melodika\, Banjo\, Ukulele\, Mandoline\, sowie dem Flötenhuhn Aurelia. Schon 2024 ein Knaller!
URL:https://kunsthofkoepenick.eu/veranstaltungen/apres-church-auf-dem-kunsthofkoepenick-red-chucks-2/
LOCATION:KunstHofKöpenick\, Alt-Köpenick 12\, Berlin\, Berlin\, 12555\, Deutschland
CATEGORIES:Après Church
ORGANIZER;CN="KunstHofK%C3%B6penick e.V.":MAILTO:verein@kunsthofkoepenick.eu
END:VEVENT
BEGIN:VEVENT
DTSTART;TZID=Europe/Berlin:20260712T113000
DTEND;TZID=Europe/Berlin:20260712T130000
DTSTAMP:20260423T105329
CREATED:20260228T175817Z
LAST-MODIFIED:20260228T175817Z
UID:10000353-1783855800-1783861200@kunsthofkoepenick.eu
SUMMARY:Après Church auf dem KunstHofKöpenick: Barbara Cuesta
DESCRIPTION:Ob Deutsch\, Spanisch oder Englisch\, ob Allein\, im Duo oder im Trio\, immer großartig und „ihr Cellotier“\, also der Köpenicker Stadtstreicher wird es sich wohl auch nicht nehmen lassen… .
URL:https://kunsthofkoepenick.eu/veranstaltungen/apres-church-auf-dem-kunsthofkoepenick-barbara-cuesta-2/
LOCATION:KunstHofKöpenick\, Alt-Köpenick 12\, Berlin\, Berlin\, 12555\, Deutschland
CATEGORIES:Après Church
ORGANIZER;CN="KunstHofK%C3%B6penick e.V.":MAILTO:verein@kunsthofkoepenick.eu
END:VEVENT
BEGIN:VEVENT
DTSTART;TZID=Europe/Berlin:20260719T113000
DTEND;TZID=Europe/Berlin:20260719T130000
DTSTAMP:20260423T105329
CREATED:20260228T180445Z
LAST-MODIFIED:20260228T180445Z
UID:10000354-1784460600-1784466000@kunsthofkoepenick.eu
SUMMARY:Après Church auf dem KunstHofKöpenick: Jacqueline Boulanger
DESCRIPTION:Die Jazzlady des Nordens – ob mit ihrer eigenen Band\, im Duo\, mit Uschi Brüning oder der ModernSoulBand\, ob Blues\, Chanson oder Soul. Sie ist immer eine Wucht!
URL:https://kunsthofkoepenick.eu/veranstaltungen/apres-church-auf-dem-kunsthofkoepenick-jacqueline-boulanger/
LOCATION:KunstHofKöpenick\, Alt-Köpenick 12\, Berlin\, Berlin\, 12555\, Deutschland
CATEGORIES:Après Church
ORGANIZER;CN="KunstHofK%C3%B6penick e.V.":MAILTO:verein@kunsthofkoepenick.eu
END:VEVENT
BEGIN:VEVENT
DTSTART;TZID=Europe/Berlin:20260726T113000
DTEND;TZID=Europe/Berlin:20260726T130000
DTSTAMP:20260423T105329
CREATED:20260228T180809Z
LAST-MODIFIED:20260228T180809Z
UID:10000355-1785065400-1785070800@kunsthofkoepenick.eu
SUMMARY:Après Church auf dem KunstHofKöpenick: StartRampe KunstHof: NOAS
DESCRIPTION:Soll mal einer sagen\, social media ist NUR doof. Bei insta haben wir 2025 ihren ersten Beitrag gefunden und uns sofort verabredet. JUNG – NEU – FRISCH –> NOAS!
URL:https://kunsthofkoepenick.eu/veranstaltungen/apres-church-auf-dem-kunsthofkoepenick-startrampe-kunsthof-noas/
LOCATION:KunstHofKöpenick\, Alt-Köpenick 12\, Berlin\, Berlin\, 12555\, Deutschland
CATEGORIES:Après Church
ORGANIZER;CN="KunstHofK%C3%B6penick e.V.":MAILTO:verein@kunsthofkoepenick.eu
END:VEVENT
BEGIN:VEVENT
DTSTART;TZID=Europe/Berlin:20260802T113000
DTEND;TZID=Europe/Berlin:20260802T130000
DTSTAMP:20260423T105329
CREATED:20260228T182717Z
LAST-MODIFIED:20260228T182717Z
UID:10000356-1785670200-1785675600@kunsthofkoepenick.eu
SUMMARY:Après Church auf dem KunstHofKöpenick: Berliner Jungs
DESCRIPTION:Wat sacht man dazu? Heiko Stang hat sich mit Roberto Schumann zusammengetan und die beiden werden bestens gekleidet und sonnenbebrillt den KunstHof blitzdingsen.
URL:https://kunsthofkoepenick.eu/veranstaltungen/apres-church-auf-dem-kunsthofkoepenick-berliner-jungs/
LOCATION:KunstHofKöpenick\, Alt-Köpenick 12\, Berlin\, Berlin\, 12555\, Deutschland
CATEGORIES:Après Church
ORGANIZER;CN="KunstHofK%C3%B6penick e.V.":MAILTO:verein@kunsthofkoepenick.eu
END:VEVENT
BEGIN:VEVENT
DTSTART;TZID=Europe/Berlin:20260809T113000
DTEND;TZID=Europe/Berlin:20260809T130000
DTSTAMP:20260423T105329
CREATED:20260228T183019Z
LAST-MODIFIED:20260228T183019Z
UID:10000357-1786275000-1786280400@kunsthofkoepenick.eu
SUMMARY:Après Church auf dem KunstHofKöpenick: Die Zöllner im Trio Infernale
DESCRIPTION:Dirk Zöllner\, Andre Gensicke und Tobias Unterberg haben sich den KunstHof für das Finale ihrer „STILL – Die Zöllner im Trio Infernale – 2026 Tour” gewählt. Zum letzten Mal STILL!
URL:https://kunsthofkoepenick.eu/veranstaltungen/apres-church-auf-dem-kunsthofkoepenick-die-zoellner-im-trio-infernale-2/
LOCATION:KunstHofKöpenick\, Alt-Köpenick 12\, Berlin\, Berlin\, 12555\, Deutschland
CATEGORIES:Après Church
ORGANIZER;CN="KunstHofK%C3%B6penick e.V.":MAILTO:verein@kunsthofkoepenick.eu
END:VEVENT
BEGIN:VEVENT
DTSTART;TZID=Europe/Berlin:20260816T113000
DTEND;TZID=Europe/Berlin:20260816T130000
DTSTAMP:20260423T105329
CREATED:20260228T183330Z
LAST-MODIFIED:20260228T183938Z
UID:10000358-1786879800-1786885200@kunsthofkoepenick.eu
SUMMARY:Après Church auf dem KunstHofKöpenick: The Shallaras
DESCRIPTION:Mauro Pandolfino kennen wir ja schon als (SUPER) Gitarristen von Apfeltraum und Big Joe Stolle. Nun das eigene Projekt mit eigenen Songs und der Sängerin Angela Cory. Energiegeladen und mitreißend.
URL:https://kunsthofkoepenick.eu/veranstaltungen/apres-church-auf-dem-kunsthofkoepenick-the-shallaras/
LOCATION:KunstHofKöpenick\, Alt-Köpenick 12\, Berlin\, Berlin\, 12555\, Deutschland
CATEGORIES:Après Church
ORGANIZER;CN="KunstHofK%C3%B6penick e.V.":MAILTO:verein@kunsthofkoepenick.eu
END:VEVENT
BEGIN:VEVENT
DTSTART;TZID=Europe/Berlin:20260823T113000
DTEND;TZID=Europe/Berlin:20260823T130000
DTSTAMP:20260423T105329
CREATED:20260228T183915Z
LAST-MODIFIED:20260228T183915Z
UID:10000359-1787484600-1787490000@kunsthofkoepenick.eu
SUMMARY:Après Church auf dem KunstHofKöpenick: Jan Preuß
DESCRIPTION:Deutsch-Italienische Liederpoesie. Was? JA! Erstmals seine Lieder auch auf italienisch. ACHTUNG: Das Programm kann Spuren von Heiterkeit\, Romantik und Melancholie enthalten. Klavier+Cello auch dabei!
URL:https://kunsthofkoepenick.eu/veranstaltungen/apres-church-auf-dem-kunsthofkoepenick-jan-preuss/
LOCATION:KunstHofKöpenick\, Alt-Köpenick 12\, Berlin\, Berlin\, 12555\, Deutschland
CATEGORIES:Après Church
ORGANIZER;CN="KunstHofK%C3%B6penick e.V.":MAILTO:verein@kunsthofkoepenick.eu
END:VEVENT
BEGIN:VEVENT
DTSTART;TZID=Europe/Berlin:20260830T113000
DTEND;TZID=Europe/Berlin:20260830T130000
DTSTAMP:20260423T105329
CREATED:20260228T184232Z
LAST-MODIFIED:20260228T184232Z
UID:10000360-1788089400-1788094800@kunsthofkoepenick.eu
SUMMARY:Après Church auf dem KunstHofKöpenick: Toni Kater
DESCRIPTION:Ein Wiedersehen. Unkokett\, menschlich frisch\, authentisch\, faszinierend und liebenswert. Und…die Liederpoetin kommt mit ganz neuen Liedern. Aufruhr in Schönheit. Willkommen zurück.
URL:https://kunsthofkoepenick.eu/veranstaltungen/apres-church-auf-dem-kunsthofkoepenick-toni-kater-2/
LOCATION:KunstHofKöpenick\, Alt-Köpenick 12\, Berlin\, Berlin\, 12555\, Deutschland
CATEGORIES:Après Church
ORGANIZER;CN="KunstHofK%C3%B6penick e.V.":MAILTO:verein@kunsthofkoepenick.eu
END:VEVENT
BEGIN:VEVENT
DTSTART;TZID=Europe/Berlin:20260906T113000
DTEND;TZID=Europe/Berlin:20260906T130000
DTSTAMP:20260423T105329
CREATED:20260228T184545Z
LAST-MODIFIED:20260228T184545Z
UID:10000361-1788694200-1788699600@kunsthofkoepenick.eu
SUMMARY:Après Church auf dem KunstHofKöpenick: hälm
DESCRIPTION:3 enthusiastische Musiker bringen uns Volksmusik aus Skandinavien. Von traditionell bis modern verweben sie das Ganze zu einem ureigenen Stil. Tiefgründig\, aufregend\, feinsinnig und mit Verve.
URL:https://kunsthofkoepenick.eu/veranstaltungen/apres-church-auf-dem-kunsthofkoepenick-haelm/
LOCATION:KunstHofKöpenick\, Alt-Köpenick 12\, Berlin\, Berlin\, 12555\, Deutschland
CATEGORIES:Après Church
ORGANIZER;CN="KunstHofK%C3%B6penick e.V.":MAILTO:verein@kunsthofkoepenick.eu
END:VEVENT
BEGIN:VEVENT
DTSTART;TZID=Europe/Berlin:20260913T113000
DTEND;TZID=Europe/Berlin:20260913T130000
DTSTAMP:20260423T105329
CREATED:20260228T184806Z
LAST-MODIFIED:20260228T184806Z
UID:10000362-1789299000-1789304400@kunsthofkoepenick.eu
SUMMARY:Après Church auf dem KunstHofKöpenick: NERVLING
DESCRIPTION:HURRA…Moira und Tom – Da sind sie wieder – Umwerfend herzlich\, umwerfend musikalisch\, umwerfend komisch\, umwerfend wertvoll und umwerfend gut! Keiner wird so gehen\, wie er gekommen ist.
URL:https://kunsthofkoepenick.eu/veranstaltungen/apres-church-auf-dem-kunsthofkoepenick-nervling-3/
LOCATION:KunstHofKöpenick\, Alt-Köpenick 12\, Berlin\, Berlin\, 12555\, Deutschland
CATEGORIES:Après Church
ORGANIZER;CN="KunstHofK%C3%B6penick e.V.":MAILTO:verein@kunsthofkoepenick.eu
END:VEVENT
BEGIN:VEVENT
DTSTART;TZID=Europe/Berlin:20260920T113000
DTEND;TZID=Europe/Berlin:20260920T130000
DTSTAMP:20260423T105329
CREATED:20260228T185437Z
LAST-MODIFIED:20260228T185437Z
UID:10000363-1789903800-1789909200@kunsthofkoepenick.eu
SUMMARY:Après Church auf dem KunstHofKöpenick: Jens Syllwasschy & Kumpanen
DESCRIPTION:Von Rügen kommend\, besuchte uns Jens mehrmals und hat sich in unseren Ort verliebt. Na denn… Spiel auf! Geschichten aus dem Leben – ohne Schublade.
URL:https://kunsthofkoepenick.eu/veranstaltungen/apres-church-auf-dem-kunsthofkoepenick-jens-syllwasschy-kumpanen/
LOCATION:KunstHofKöpenick\, Alt-Köpenick 12\, Berlin\, Berlin\, 12555\, Deutschland
CATEGORIES:Après Church
ORGANIZER;CN="KunstHofK%C3%B6penick e.V.":MAILTO:verein@kunsthofkoepenick.eu
END:VEVENT
BEGIN:VEVENT
DTSTART;TZID=Europe/Berlin:20260927T113000
DTEND;TZID=Europe/Berlin:20260927T130000
DTSTAMP:20260423T105329
CREATED:20260228T185716Z
LAST-MODIFIED:20260228T185716Z
UID:10000364-1790508600-1790514000@kunsthofkoepenick.eu
SUMMARY:Après Church auf dem KunstHofKöpenick: PUTENSEN
DESCRIPTION:Der Tausendsassa\, Herr der Tasten\, Impulsarbeiter und Meister der Improvisation ist zurück. Was auch immer wir hier ankündigen\, er wird es zu vermeiden wissen. Er macht ja doch\, was er will.
URL:https://kunsthofkoepenick.eu/veranstaltungen/apres-church-auf-dem-kunsthofkoepenick-putensen-2/
LOCATION:KunstHofKöpenick\, Alt-Köpenick 12\, Berlin\, Berlin\, 12555\, Deutschland
CATEGORIES:Après Church
ORGANIZER;CN="KunstHofK%C3%B6penick e.V.":MAILTO:verein@kunsthofkoepenick.eu
END:VEVENT
BEGIN:VEVENT
DTSTART;TZID=Europe/Berlin:20261004T113000
DTEND;TZID=Europe/Berlin:20261004T130000
DTSTAMP:20260423T105329
CREATED:20260228T190029Z
LAST-MODIFIED:20260228T190029Z
UID:10000365-1791113400-1791118800@kunsthofkoepenick.eu
SUMMARY:Après Church auf dem KunstHofKöpenick: Mathew James White
DESCRIPTION:„Kiwi Dream Folk“ aus Neuseeland. Seine Songs\, seine Gitarre und jede Menge Charme – mehr braucht es nicht. Seit 2006 in Deutschland lebend\, schaut Mathew erstmals in Köpenick vorbei.
URL:https://kunsthofkoepenick.eu/veranstaltungen/apres-church-auf-dem-kunsthofkoepenick-mathew-james-white/
LOCATION:KunstHofKöpenick\, Alt-Köpenick 12\, Berlin\, Berlin\, 12555\, Deutschland
CATEGORIES:Après Church
ORGANIZER;CN="KunstHofK%C3%B6penick e.V.":MAILTO:verein@kunsthofkoepenick.eu
END:VEVENT
BEGIN:VEVENT
DTSTART;TZID=Europe/Berlin:20261011T113000
DTEND;TZID=Europe/Berlin:20261011T130000
DTSTAMP:20260423T105329
CREATED:20260228T190400Z
LAST-MODIFIED:20260228T190400Z
UID:10000366-1791718200-1791723600@kunsthofkoepenick.eu
SUMMARY:Après Church auf dem KunstHofKöpenick: APFELTRAUM
DESCRIPTION:Der nie zu verhindernde Saisonabschluss sollte doch immer ein Höhepunkt sein. Bitteschön. CASARS Songs werden nicht alt. Jedenfalls nicht in dieser Interpretation. Drum feiert mit uns ein letztes Mal!
URL:https://kunsthofkoepenick.eu/veranstaltungen/apres-church-auf-dem-kunsthofkoepenick-apfeltraum-3/
LOCATION:KunstHofKöpenick\, Alt-Köpenick 12\, Berlin\, Berlin\, 12555\, Deutschland
CATEGORIES:Après Church
ORGANIZER;CN="KunstHofK%C3%B6penick e.V.":MAILTO:verein@kunsthofkoepenick.eu
END:VEVENT
END:VCALENDAR