BEGIN:VCALENDAR
VERSION:2.0
PRODID:-//KunstHofKöpenick - ECPv6.5.1.5//NONSGML v1.0//EN
CALSCALE:GREGORIAN
METHOD:PUBLISH
X-WR-CALNAME:KunstHofKöpenick
X-ORIGINAL-URL:https://kunsthofkoepenick.eu
X-WR-CALDESC:Veranstaltungen für KunstHofKöpenick
REFRESH-INTERVAL;VALUE=DURATION:PT1H
X-Robots-Tag:noindex
X-PUBLISHED-TTL:PT1H
BEGIN:VTIMEZONE
TZID:Europe/Berlin
BEGIN:DAYLIGHT
TZOFFSETFROM:+0100
TZOFFSETTO:+0200
TZNAME:CEST
DTSTART:20200329T010000
END:DAYLIGHT
BEGIN:STANDARD
TZOFFSETFROM:+0200
TZOFFSETTO:+0100
TZNAME:CET
DTSTART:20201025T010000
END:STANDARD
BEGIN:DAYLIGHT
TZOFFSETFROM:+0100
TZOFFSETTO:+0200
TZNAME:CEST
DTSTART:20210328T010000
END:DAYLIGHT
BEGIN:STANDARD
TZOFFSETFROM:+0200
TZOFFSETTO:+0100
TZNAME:CET
DTSTART:20211031T010000
END:STANDARD
END:VTIMEZONE
BEGIN:VEVENT
DTSTART;TZID=Europe/Berlin:20210725T113000
DTEND;TZID=Europe/Berlin:20210725T130000
DTSTAMP:20260424T180421
CREATED:20210604T131807Z
LAST-MODIFIED:20210604T131807Z
UID:10000231-1627212600-1627218000@kunsthofkoepenick.eu
SUMMARY:APRÈS CHURCH auf dem KunstHofKöpenick: Feline & Strange
DESCRIPTION:Aufgemerkt Köpenick\, wenn ihr denkt\, ihr hättet inzwischen alles an Genres auf dem KunstHof gehört und gesehen….FALSCH GEDACHT\n\nHier kommen Feline & Strange und ja…eigentlich sprengen sie den Rahmen unseres kleinen Etablissements mit ihrer schrägen Show aus Dark Cabaret\, Post-Punk\, Oper\, Elektronik\, Visuals\, Tanztheater und akrobatischen Wechseln von Szenerie und Stimmung.\n\nAber….mit minimalistischen Mitteln geht es auch und deshalb kommen sie als Duo zu uns.\n\nFeline an Vocals\, Klavier und Ukulele\nund\nChristoph “The Chief” Klemke an Cello\, Schlagwerk und blöden Sprüchen\n\nAls die elektrifizierte Opernsängerin Feline Lang (laut BRIGITTE “eine der schillerndsten Frauen der Berliner Musikszene”) mitten im 1. Lockdown das 6. Album TRIGGER WARNING mit ihrer Wave-Cabaret-Band FELINE & STRANGE veröffentlicht\, nennt das die Presse “ein zutiefst intensivesGesamtkunstwerk” – und “Berlins manifestierte Merkwürdigkeit”. Wütend\, direkt\, zynisch\, trotz der überwiegend kammermusikalischen Besetzung im immer ausladenderen Spagat zwischen Punk und Oper\, anrührender Tragik und beißender Albernheit. Das Folgealbum „Das neue Normal“\, erstmals komplett auf Deutsch\, ist inzwischen auch schon erschienen.\n\nInnere Abgründe\, äußere Zustände\nDas Publikum wird denunziert\, erkannt\, getröstet\, beklagt\, verlacht und umarmt. Niemand wird unberührt gelassen.\n\nFelines Markenzeichen ist die Sprengung aller Definitionen. Dieser Act lässt sich nicht in eine Schublade stecken und deshalb……Willkommen auf dem KunstHofKöpenick Feline & Strange\n\nBITTE beachtet immer das aktuelle Hygienekonzept! Wir bitten alle\, sich strikt daran zu halten und gegenseitige Rücksichtnahme und Toleranz zu zeigen! \n\nwww.felineandstrange.com\nwww.facebook.com/felineandstrange
URL:https://kunsthofkoepenick.eu/veranstaltungen/apres-church-auf-dem-kunsthofkoepenick-feline-strange/
LOCATION:„Am Wasser“\, Alt-Köpenick 12\, Berlin\, Berlin\, 12555\, Deutschland
CATEGORIES:Après Church
ATTACH;FMTTYPE=image/jpeg:https://kunsthofkoepenick.eu/wp-content/uploads/2021/06/DSC05207-clean-bw-1024x684-1.jpg
ORGANIZER;CN="KunstHofK%C3%B6penick e.V.":MAILTO:verein@kunsthofkoepenick.eu
END:VEVENT
BEGIN:VEVENT
DTSTART;TZID=Europe/Berlin:20210718T113000
DTEND;TZID=Europe/Berlin:20210718T130000
DTSTAMP:20260424T180421
CREATED:20210529T124611Z
LAST-MODIFIED:20210529T124611Z
UID:10000227-1626607800-1626613200@kunsthofkoepenick.eu
SUMMARY:APRÈS CHURCH auf dem KunstHofKöpenick: DobBroMan
DESCRIPTION:Nach zweijähriger Pause wieder auf dem KunstHofKöpenick\n„DobBroMan“\n\n„DobBroMan“ ist das Projekt des Blues-\, Rock-\, Slide-Gitarristen und Singer-Songwriters Klaus J. Frauenholz aus Berlin.\nOk\, eigentlich kommt er ja aus dem Allgäu\, aber welcher Berliner kommt schon aus Berlin?\nNach Ausflügen in die British Heavy-Metal / Hardrock Ecke und anderen Umwegen präsentierte er uns dann mit seinem Debüt „DobBroMan“ ein richtig gutes Blues Album. In dieser Richtung wird es auch mit dem nächsten Album weitergehen.\nUns erwartet eine kraftvolle Mischung aus Rock\, Blues\, Americana\, Singer/Songwriter und Folk.\nSeid gespannt und freut euch auf:\n„DobBroMan“\n\nBITTE beachtet immer das aktuelle Hygienekonzept! Wir bitten alle\, sich strikt daran zu halten und gegenseitige Rücksichtnahme und Toleranz zu zeigen! \n\nhttps://dobbroman.weebly.com/about.html
URL:https://kunsthofkoepenick.eu/veranstaltungen/apres-church-auf-dem-kunsthofkoepenick-dobbroman/
LOCATION:„Am Wasser“\, Alt-Köpenick 12\, Berlin\, Berlin\, 12555\, Deutschland
CATEGORIES:Après Church
ATTACH;FMTTYPE=image/jpeg:https://kunsthofkoepenick.eu/wp-content/uploads/2021/05/DobBroMan-RCA-Mic-Photo_Oliver-Hasenecker_print-300dpi-2018.jpg
ORGANIZER;CN="KunstHofK%C3%B6penick e.V.":MAILTO:verein@kunsthofkoepenick.eu
END:VEVENT
BEGIN:VEVENT
DTSTART;TZID=Europe/Berlin:20210711T113000
DTEND;TZID=Europe/Berlin:20210711T130000
DTSTAMP:20260424T180421
CREATED:20210529T125753Z
LAST-MODIFIED:20210529T125753Z
UID:10000228-1626003000-1626008400@kunsthofkoepenick.eu
SUMMARY:APRÈS CHURCH auf dem KunstHofKöpenick: CIELO E TERRA
DESCRIPTION:CIELO E TERRA\, also Himmel und Erde.\nJa\, in der Tat\, es gibt so einiges zwischen Himmel und Erde was NOCH nicht auf dem KunstHof zu Gast war\, aber wir bemühen uns immer das zu ändern.\nZum Beispiel mit diesen beiden Herren:\n\nJens Saleh (Kontrabass) und Oliver Bostroem (Gitarre)\n\nDer Eine oder die Andere könnte sie schon kennen. Jens spielte unter anderem mit Engerling\, Uwe Kropinski und Axel Donner\, Oliver mit IC Falkenberg\, Ulla Meinecke und auch ein paar Jahre mit Dirk Zöllner. Kommste gucken Scholle? 🙂\n\nCIELO E TERRA Himmel und Erde \n\n\n\n\nDie Musiker interpretieren Stücke von den schon himmlischen John Lennon\, Freddy Mercury aber auch von den irdischen Sting\, Cindy Lauper u.v.a.m.\nJeder Song hat eine Geschichte die das Duo bewegte sich seiner musikalisch anzunehmen\, auch davon werden sie berichten!\n\nEine musikalische Reise zwischen Pop\, Klassik\, Worldmusik und Improvisation.\nWillkommen zum ersten Mal auf dem KunstHofKöpenick\nCIELO E TERRA\nMODERN ACOUSTIC CUTS\n\n\nBITTE beachtet immer das aktuelle Hygienekonzept! Wir bitten alle\, sich strikt daran zu halten und gegenseitige Rücksichtnahme und Toleranz zu zeigen! \n\n\n\n\n\n\n\nhttp://www.amazon.de/gp/product/B00318YUEU\n\n\n\n\n\n\n\n\n\n\n 
URL:https://kunsthofkoepenick.eu/veranstaltungen/apres-church-auf-dem-kunsthofkoepenick-cielo-e-terra/
LOCATION:„Am Wasser“\, Alt-Köpenick 12\, Berlin\, Berlin\, 12555\, Deutschland
CATEGORIES:Après Church
ATTACH;FMTTYPE=image/png:https://kunsthofkoepenick.eu/wp-content/uploads/2021/05/Cielo-E-Terra.png
ORGANIZER;CN="KunstHofK%C3%B6penick e.V.":MAILTO:verein@kunsthofkoepenick.eu
END:VEVENT
BEGIN:VEVENT
DTSTART;TZID=Europe/Berlin:20210704T113000
DTEND;TZID=Europe/Berlin:20210704T130000
DTSTAMP:20260424T180421
CREATED:20210529T115413Z
LAST-MODIFIED:20210529T124053Z
UID:10000226-1625398200-1625403600@kunsthofkoepenick.eu
SUMMARY:APRÈS CHURCH auf dem KunstHofKöpenick: DEW`S BREW - JAZZTRIO
DESCRIPTION:Zum ersten Mal auf dem KunstHof. Zumindest in dieser Besetzung.\n\nSophie (Dew) war natürlich schon alleine da und auch schon mal bei Arno Schmidt dabei\, aber diesmal ist alles anders. Es wird gejazzt und geswingt bis der Hof wackelt.\n\n„Dew’s Brew ist europäischer Jazz und Swing im Stil der 20er Jahre. Mit dem warmen akustischen Sound reharmonisiert die Band auch bekannte moderne Songs und lässt sie neu erstrahlen.“\n\nNa dann….Jazz aber los. Willkommen Dew`s Brew auf dem KunstHofKöpenick.\n\nSophie Dew Decker – Gesang/Gitarre\nLiva Strazdina – Trompete\nRobert Strobl – Gitarre\n\nBITTE beachtet immer das aktuelle Hygienekonzept! Wir bitten alle\, sich strikt daran zu halten und gegenseitige Rücksichtnahme und Toleranz zu zeigen! \n\nwww.dewsbrew.com
URL:https://kunsthofkoepenick.eu/veranstaltungen/apres-church-auf-dem-kunsthofkoepenick-dews-brew-jazztrio/
LOCATION:„Am Wasser“\, Alt-Köpenick 12\, Berlin\, Berlin\, 12555\, Deutschland
CATEGORIES:Après Church
ATTACH;FMTTYPE=image/png:https://kunsthofkoepenick.eu/wp-content/uploads/2021/05/dews-brew1.png
ORGANIZER;CN="KunstHofK%C3%B6penick e.V.":MAILTO:verein@kunsthofkoepenick.eu
END:VEVENT
BEGIN:VEVENT
DTSTART;TZID=Europe/Berlin:20210613T113000
DTEND;TZID=Europe/Berlin:20210613T130000
DTSTAMP:20260424T180421
CREATED:20210517T190444Z
LAST-MODIFIED:20210529T115740Z
UID:10000221-1623583800-1623589200@kunsthofkoepenick.eu
SUMMARY:APRÈS CHURCH auf dem KunstHofKöpenick: BLACKBIRD
DESCRIPTION:Kann es im Pop noch etwas Neues geben? Wahrscheinlich nicht. Blackbird beweisen das Gegenteil! \nBLACKBIRD – das sind Ivonne Fechner und Bodo Kommnick. Ja genau…Die beiden waren auch für eine lange Zeit das musikalische Herz von LIFT. Dort lernten sie sich kennen und nun verschmelzen ihre Stimmen und Instrumente auf der Bühne zu einer emotionalen\, kraftvollen und dabei doch zerbrechlichen Mischung. Und das in lässiger Perfektion. BLACKBIRD eben. \nDie Hingabe\, mit der sie musizieren\, geht unter die Haut und Ihre vergnügliche Spielfreude ist einfach ansteckend. Ihre Songs erzählen Geschichten über das Leben\, die Liebe\, die Gesellschaft\, auch mit kritischem Blick. Damit treffen sie ins Herz und berühren auf vielfältige Weise. Wir freuen uns auf eine wundervolle\, mitreißende Mischung ihrer eigenen Songs gepaart mit Songs anderer Künstler und Bands\, die die beiden schätzen. Freut euch auf: \nBLACKBIRD – Pop\, Rock\, Singer-Songwriter \nIvonne Fechner (Gesang\, Violine\, Mandoline\, Keyboard\, Percussion) \nBodo Kommnick (Gesang\, Gitarre\, Percussion) \nBITTE beachtet immer das aktuelle Hygienekonzept! Wir bitten alle\, sich strikt daran zu halten und gegenseitige Rücksichtnahme und Toleranz zu zeigen!  \nWir dürfen Veranstaltungen unter Auflagen durchführen. Hierzu brauchen wir Eure Hilfe und Unterstützung. \n\nEinlass nur mit negativen Test (nicht älter als 24h) oder für zweifach Geimpfte oder Genesene (Bescheinigung ist vorzulegen). Gilt für alle\, auch für alle fleißigen Helferlein und Künstler:Innen\nTestmöglichkeiten findet ihr inzwischen an jeder Ecke\, auch Sonntag früh\, z.B. auf der Wiese neben der Stadtkirche Alt-Köpenick ab 08:30h – https://www.wundervino.de/cat/index/sCategory/41\n\n–> durch diese Auflage\, haben wir die Möglichkeit\, die Abstände der Sitzplätze zu verringern und können bis zu 60 Personen auf den Hof lassen. Das allerdings ist an weitere Maßnahmen gekoppelt: \n\nEinlass ausschließlich von der Wasserseite mit Vorzeigen des Negativ-Nachweises. Eintritt frei.\nRegistrierung per Corona-Warnapp (von uns bevorzugt\, weil am sichersten!!!) oder handschriftlich mit Name\, Vorname\, Adresse und Telefonnummer.\nSitzplatz auf Zuteilung: “Sie werden platziert.”\nDas Tragen einer medizinischen Mund-Nase-Bedeckung und die Einhaltung von 1\,50m Abstand ist Pflicht\, sofern man sich nicht am Sitzplatz befindet.\n\n“One more thing”: \n\n  Während der Veranstaltung wird es KEINE Bewirtung geben. Nur das ermöglicht uns die Durchführung! Das heißt\, ihr könnt VOR der Veranstaltung Getränke flaschenweise ordern\, welche dann am Platz während der Veranstaltung verzehrt werden dürfen. (Und das sogar ohne Maske ;-))\n\nWir haben eine große BITTE an euch: \nMACHT MIT bei der Einhaltung der Maßnahmen und seid mit uns zusammen FÜR KULTUR! \nDoch jetzt freuen wir uns erst einmal\, endlich wieder los zu legen. Après Church am 13.06.2021 – 11.30Uhr bis 13Uhr – “Am Wasser” in Köpenick. \nUm alles halbwegs geordnet über die Bühne zu bekommen\, beginnen wir mit dem Einlass 10:30h. \nhttps://www.blackbird.band
URL:https://kunsthofkoepenick.eu/veranstaltungen/apres-church-blackbird/
LOCATION:„Am Wasser“\, Alt-Köpenick 12\, Berlin\, Berlin\, 12555\, Deutschland
CATEGORIES:Après Church
ATTACH;FMTTYPE=image/jpeg:https://kunsthofkoepenick.eu/wp-content/uploads/2020/02/blackbird-Pressefoto-19@Max-Schwarzlose-Colour.jpeg
ORGANIZER;CN="KunstHofK%C3%B6penick e.V.":MAILTO:verein@kunsthofkoepenick.eu
END:VEVENT
BEGIN:VEVENT
DTSTART;TZID=Europe/Berlin:20200927T113000
DTEND;TZID=Europe/Berlin:20200927T130000
DTSTAMP:20260424T180421
CREATED:20200702T121356Z
LAST-MODIFIED:20200926T124016Z
UID:10000219-1601206200-1601211600@kunsthofkoepenick.eu
SUMMARY:ABGESAGT!!!! APRÈS CHURCH -  Katja Werker / Christian (Sorje) Sorge
DESCRIPTION:FÄLLT AUS!!!\n\n\n\nLeider wird das Wetter und die Prognose für Morgen immer schlechter. Zur Kälte ist jetzt noch nicht enden wollender Regen hinzugekommen und wir schwimmen davon. Lange Rede kurzer Sinn: Wir müssen die Veranstaltung morgen leider absagen! Es wäre unverantwortlich dem Künstler\, unseren Gästen und uns selbst gegenüber. Denn das Wichtigste ist immer noch die Gesundheit und die wollen wir erhalten!\nWir danken Christian „Sorje“ Sorge\, der so verständnisvoll und zustimmend und trotzdem positiv in die Zukunft blickend reagiert hat. WIR LASSEN UNS NICHT UNTERKRIEGEN! KULTUR MUSS ERHALTEN BLEIBEN! Und Sorje wird spielen! Nicht morgen\, aber wir werden eine Möglichkeit finden.\n\n\n\nWas zuvor geschah:\nAufgrund der Wetterlage wollen wir es als KunstHof nicht verantworten\, Katja Werker die weite Reise antreten zu lassen. Das Risiko\, speziell für ihre Stimme\, ist zu groß. Die Kraft nach ihrer Krankheit ist zwar fast vollständig zurück\, aber eben nur fast und wir haben uns entschieden\, das Risiko nicht tragen zu wollen. Sowohl Katja als auch uns tut es Leid\, wir sehen und hören sie aber definitiv beim Après Church 2021!! \n\n\n\n\nEin großer Dank geht an Christian (Sorje) Sorge\, der sich schnell und unkompliziert bereit erklärt hat für Katja einzuspringen und uns zu helfen\, dass wir diesen Sonntag Après Church nicht ausfallen lassen müssen.\n\nIn diesem Sinne\, bis bald Katja Werker und bleib gesund!\nUnd herzlich Willkommen Sorje.\n\nhttps://www.facebook.com/christian.sorge.927\n\n\n\nWir freuen uns auf Sonntag. Decken\, ein bisschen Überdachung und Glühwein werden für euch da sein! Zieht ´ne warme Jacke an \nWir freuen uns auf euch!\n\nDer KunstHofKöpenick e.V.\n\n\n\nSorje mit Gitarre spielt seine Favoriten!! \nClassic Rock\, Rock´n Roll\, Blues\, Country\, Bekanntes\, Noch Nie Gehörtes\, Standards\, Eigenkreationen… \nChristian Sorge\, besser bekannt durch diverse Rolling Stones Coverbands (Starfucker\, Nervous Breakdown)\, Final Stap (mit Prinzensänger Tobias Künzel am Schlagzeug)\, Zusammenarbeit mit nationalen (Mike Kilian\, Sänger von Rockhaus) und internationalen Künstlern (Tony Carey\, John Lawton von Uriah Heep) spielt allein mit Akustikgitarre diverses von Bob Dylan\, Rolling Stones\, Chuck Berry\, John Lee Hooker\, Doors\, Ramones\, Johnny Cash \nauf ganz eigene Art und Weise! \n  \n\nAuf 2021 verschoben: \n„Wenn sie spielt\, steht die Welt still „ \nSo lautete nur eine der vielen Überschriften\, die Journalisten bisher über diese Ausnahmekünstlerin verfasst haben und in erster Linie beschreiben sie damit wohl Katjas unglaubliche Stimme\, die auf direktem Wege das Herz berührt. Dabei ist Mainstream – Pop nicht Katjas Sache. Es ist ihre ganz eigene Mischung aus Folk\, Pop und Indie Elementen\, die sie bundesweit und über die Grenzen von Deutschland hinaus bekannt gemacht haben. \nDie gebürtige Essenerin gewann zu Beginn ihres musikalischen Werdegangs etliche Nachwuchswettbewerbe\, darunter den „Hamburger Stimmtreff“ der Popakademie Hamburg\, bevor sie im Jahr 2000 den ersten (BMG) von drei großen Plattenverträgen unterschrieb. Ihr Debütalbum „Contact Myself ” erreichte\, gekoppelt an einen Auftritt in der RTL Serie “Hinter Gittern”\, aus dem Nichts die deutschen Albumcharts und gilt bis heute unter Musikliebhabern und Kritikern als Meilenstein der deutschen Popmusik. \nWir freuen uns auf Sie – Katja Werker! \nhttps://www.katja-werker.com/ \n 
URL:https://kunsthofkoepenick.eu/veranstaltungen/apres-church-katja-werker/
LOCATION:„Am Wasser“\, Alt-Köpenick 12\, Berlin\, Berlin\, 12555\, Deutschland
CATEGORIES:Après Church
ATTACH;FMTTYPE=image/jpeg:https://kunsthofkoepenick.eu/wp-content/uploads/2020/09/Katja-Werker-Plauen11-1-1024x678cs-1.jpg
ORGANIZER;CN="KunstHofK%C3%B6penick e.V.":MAILTO:verein@kunsthofkoepenick.eu
END:VEVENT
BEGIN:VEVENT
DTSTART;TZID=Europe/Berlin:20200823T113000
DTEND;TZID=Europe/Berlin:20200823T130000
DTSTAMP:20260424T180421
CREATED:20200315T120350Z
LAST-MODIFIED:20201022T145727Z
UID:10000209-1598182200-1598187600@kunsthofkoepenick.eu
SUMMARY:APRÈS CHURCH - Christian Hinz
DESCRIPTION:Wo Okzident auf Orient trifft… \nChristian Hinz\, ursprünglich klassisch ausgebildet\, wurde später Schüler des französischen Kontrabassvirtuosen Francois Rabbath. \nDurch weiterführende Studien begegnete er Instrumentalisten aus verschiedenen Kulturen\, deren Einflüsse er in sein Spiel adaptierte. \nChristian Hinz praktiziert verschiedene Spielweisen und entwickelte eine eigene Stimmung für Kontrabass\, die dem Instrument neue Ausdrucksmöglichkeiten verleiht. Er musizierte in verschiedenen klassischen Ensembles und wirkte als Multi-Instrumentalist in diversen Studioprojekten mit. Lasst euch entführen und verzaubern von Christian Hinz!  \nhttps://www.christianhinz.fr/ \nAPRÈS CHURCH – 23.08.2020 – Christian Hinz \n \n\n\n   \n\nMit dem Laden des Videos akzeptieren Sie die Datenschutzerklärung von YouTube.Mehr erfahren \nVideo laden \n YouTube immer entsperren
URL:https://kunsthofkoepenick.eu/veranstaltungen/apres-church-sonderkonzert-zum-winzerfruehling-christian-hinz-arup-sen-gupta-bass-tabla/
LOCATION:„Am Wasser“\, Alt-Köpenick 12\, Berlin\, Berlin\, 12555\, Deutschland
CATEGORIES:Après Church
ATTACH;FMTTYPE=image/jpeg:https://kunsthofkoepenick.eu/wp-content/uploads/2020/03/image.jpg
ORGANIZER;CN="KunstHofK%C3%B6penick e.V.":MAILTO:verein@kunsthofkoepenick.eu
END:VEVENT
BEGIN:VEVENT
DTSTART;TZID=Europe/Berlin:20200816T113000
DTEND;TZID=Europe/Berlin:20200816T130000
DTSTAMP:20260424T180421
CREATED:20200606T134111Z
LAST-MODIFIED:20201022T145529Z
UID:10000218-1597577400-1597582800@kunsthofkoepenick.eu
SUMMARY:APRÈS CHURCH - Barbara Cuesta & das Cellotier - 2. Versuch
DESCRIPTION:Nun ist es hoffentlich soweit\, wir präsentieren: Barbara Cuesta & das Cellotier  \nSchon seit langem verzaubert Barbara Cuesta die Singer/Songwriterszene in ganz Deutschland. Nachdem sie ihr Abitur erfolgreich mit Straßenmusik finanzierte\, in Düsseldorf zahlreiche Musikpreise gewann\, zog sie 2003 https://youtu.be/vn6JBg_ZSfk(noch deutsch singend) vom Rheinland nach Berlin\, um ihr Debüt-Album „Barbara Cuesta“ aufzunehmen\, das 2005 bei Universal erschien. \nNach einer Pause\, in der sie unter anderem für das Westfälische Landestheater Theatermusik schrieb\, veröffentlichte sie 2011 ihr zweites\, englischsprachiges Album „Shine“. \nAuf beiden Alben begleitete sie der virtuose Cellist b.deutung\, der Köpenicker Stadtstreicher Tobias Unterberg\, den sie seit Beginn ihrer über 10 Jahre andauernden Zusammenarbeit ihr „Cellotier“ nennt. \nBei ihren gemeinsamen Live-Konzerten\, spürt man die musikalische Verbindung zwischen beiden\, sowie die Liebe und Hingabe zur Musik. Die englisch und spanisch betexteten Lieder der Halbspanierin sind intime Momentaufnahmen\, in denen immer wieder ihr Sinn für obskuren Humor aufblitzt. Mal erinnert ihre Stimme an Suzanne Vega\, mal an Joni Mitchell. Ihre Selbstständigkeit\, Offenheit\, ihr herausragendes Talent\, sowie ihr eindeutiges Ja zum Leben machen sie aus. \nhttp://www.barbara-cuesta.de \nAPRÈS CHURCH – 16.08.2020 – Barbara Cuesta \n \n\n\n   \n\nMit dem Laden des Videos akzeptieren Sie die Datenschutzerklärung von YouTube.Mehr erfahren \nVideo laden \n YouTube immer entsperren
URL:https://kunsthofkoepenick.eu/veranstaltungen/apres-church-barbara-cuesta-das-cellotier-2-versuch/
LOCATION:„Am Wasser“\, Alt-Köpenick 12\, Berlin\, Berlin\, 12555\, Deutschland
CATEGORIES:Après Church
ATTACH;FMTTYPE=image/png:https://kunsthofkoepenick.eu/wp-content/uploads/2020/03/Barbara_Tobi.png
ORGANIZER;CN="KunstHofK%C3%B6penick e.V.":MAILTO:verein@kunsthofkoepenick.eu
END:VEVENT
BEGIN:VEVENT
DTSTART;TZID=Europe/Berlin:20200802T113000
DTEND;TZID=Europe/Berlin:20200802T130000
DTSTAMP:20260424T180421
CREATED:20200403T090034Z
LAST-MODIFIED:20201022T145151Z
UID:10000216-1596367800-1596373200@kunsthofkoepenick.eu
SUMMARY:APRÈS CHURCH - TONI KATER
DESCRIPTION:Auf 02.08.2020 verschoben!!! \n„Die schönen Dinge sind gefährlich“ \nSo heißt auch das neue Album von Toni Kater. Mit ihren poetisch-doppeldeutigen Texten und einer Stimme\, die die Seele streichelt\, hat sich Toni Kater Stück für Stück von der lauten Popbühne entfernt und zu einer eigenwilligen und eigenständigen Künstlerin entwickelt. Ihre Musik ist subtil\, ihre Haltung grundehrlich. \nToni Kater arbeitet und lebt als Musikerin und Autorin in Berlin. Ihre Lieder sind voller Poesie\, ungewöhnlicher Bilder\, Tiefe und Humor. \n„Wer diese unkokette menschlich frisch-authentische Offenbarung live erlebt\, klebt nicht nur fasziniert an ihrer zerbrechlich-androgynen Erscheinung\, sondern wird von ihren klug verträumten Texten weggetragen…“ (Kieler Nachrichten) \nMal am Klavier und mal an der Gitarre sich begleitend wird sie uns diesen Après Church Vormittag zu einem unwiderstehlichen Erlebnis gestalten. Im Irgendwo zwischen Ernsthaftigkeit und humorvoller Selbstbetrachtung. \n– Utopische Gebrauchspoesie vom Alltag für den Alltag von und mit TONI KATER – \nWir freuen uns! \nhttp://www.toni-kater.de  \nhttps://www.facebook.com/tonikater.offiziell/ \nAPRÈS CHURCH – 02.08.2020 – Toni Kater \n \n\n\n   \n\nMit dem Laden des Videos akzeptieren Sie die Datenschutzerklärung von YouTube.Mehr erfahren \nVideo laden \n YouTube immer entsperren \n \n\n\n 
URL:https://kunsthofkoepenick.eu/veranstaltungen/apres-church-toni-kater/
LOCATION:„Am Wasser“\, Alt-Köpenick 12\, Berlin\, Berlin\, 12555\, Deutschland
CATEGORIES:Après Church
ATTACH;FMTTYPE=image/jpeg:https://kunsthofkoepenick.eu/wp-content/uploads/2020/04/TONI-KATER.jpg
ORGANIZER;CN="KunstHofK%C3%B6penick e.V.":MAILTO:verein@kunsthofkoepenick.eu
END:VEVENT
BEGIN:VEVENT
DTSTART;TZID=Europe/Berlin:20200628T113000
DTEND;TZID=Europe/Berlin:20200628T130000
DTSTAMP:20260424T180421
CREATED:20200308T173159Z
LAST-MODIFIED:20201022T144509Z
UID:10000200-1593343800-1593349200@kunsthofkoepenick.eu
SUMMARY:APRÈS CHURCH - Marie Chain
DESCRIPTION:Zwei Jahre ist es her\, da ist sie wieder!\n\nEine Stimme\, ein Mikrofon\, ein Piano\, ein Herz – mehr braucht es nicht um ein Publikum aufzumischen.\n\nMarie Chain katapultiert gefühlvollen Vintage-Soul und Blues ins 21. Jahrhundert. Auf der Suche nach immer neuen Einflüssen durchstreift die Wahlberlinerin die verschiedensten Ecken der Welt und lässt ihre Entdeckungen virtuos in ihre Musik einfließen. Bereits im Alter von fünf Jahren begann sie Klavier zu spielen\, einige Jahre lebte sie in Barcelona\, reiste nach New York und London bis sie schließlich vor 9 Jahren in Berlin strandete. Weltweite Auftritte lassen sie in den verschiedensten Ländern und Kulturen zu Hause sein (APAP New York\, SXSW Texas USA\, Live At Heart Festival Schweden\, Stadthalle Montreux Schweiz\, Altacustic Festival Spanien\, Blues & Jazz Festival Bamberg\, Feel Festival usw.).\nhttps://www.mariechain.com \nAPRÈS CHURCH erfolgreich gestartet! \n \n\n\n   \n\nMit dem Laden des Videos akzeptieren Sie die Datenschutzerklärung von YouTube.Mehr erfahren \nVideo laden \n YouTube immer entsperren
URL:https://kunsthofkoepenick.eu/veranstaltungen/apres-church-marie-chain/
LOCATION:„Am Wasser“\, Alt-Köpenick 12\, Berlin\, Berlin\, 12555\, Deutschland
CATEGORIES:Après Church
ATTACH;FMTTYPE=image/jpeg:https://kunsthofkoepenick.eu/wp-content/uploads/2020/03/Copyright-Anne-O.-Poncet-scaled.jpg
ORGANIZER;CN="KunstHofK%C3%B6penick e.V.":MAILTO:verein@kunsthofkoepenick.eu
END:VEVENT
BEGIN:VEVENT
DTSTART;TZID=Europe/Berlin:20200607T113000
DTEND;TZID=Europe/Berlin:20200607T133000
DTSTAMP:20260424T180421
CREATED:20200308T173830Z
LAST-MODIFIED:20200611T160738Z
UID:10000203-1591529400-1591536600@kunsthofkoepenick.eu
SUMMARY:APRÈS CHURCH - Pat & Bell
DESCRIPTION:Ab dem 28.06.2020 geht es wieder los! \nIm Moment sind wir noch dabei unter Beachtung aller derzeitigen Maßnahmen und Verordnungen einen KunstHof zu gestalten\, auf dem ein sicheres Bewegen und freudiges Kulturgenießen möglich sein wird.\n\n\nABER hier findet ihr einen kleinen Gruß der Künstler:\nyoutube-link\n\nPat & Bell wird auf den 09.08.2020 verschoben!\n\nPat & Bell\nfrischer\, deutscher Folk-Pop aus Berlin\n\nZwei Stimmen und ein ganz besonderer Sound! Als Pat & Bell sich 2016 bei ihrem Schauspielstudium kennen lernten\, suchten beide auch nach einer neuen musikalischen Herausforderung. Ein Hauch von Schicksal\, denn schnell war klar\, dass ihre Stile und Stimmen wie zwei Zahnräder ineinander greifen. Bald entstanden eigene Songs\, zunächst auf englisch und immer vom „American Spirit“ inspiriert.\nSeit 2019 kommt nun auch verstärkt die deutsche Sprache in ihren Liedern zur Geltung.\nVor zwei Jahren waren sie schon einmal bei uns zum Après Church und es war ein sehr schöner Vormittag. Welcome back Pat & Bell…..\nhttps://de-de.facebook.com/PatandBell/
URL:https://kunsthofkoepenick.eu/veranstaltungen/apres-churc-pat-bell/
LOCATION:„Am Wasser“\, Alt-Köpenick 12\, Berlin\, Berlin\, 12555\, Deutschland
CATEGORIES:Après Church
ATTACH;FMTTYPE=image/png:https://kunsthofkoepenick.eu/wp-content/uploads/2020/03/IMG_20191001_211528_414.png
ORGANIZER;CN="KunstHofK%C3%B6penick e.V.":MAILTO:verein@kunsthofkoepenick.eu
END:VEVENT
END:VCALENDAR